BEGIN:VCALENDAR
PRODID:-//AT Content Types//AT Event//EN
VERSION:1.0
BEGIN:VEVENT
DTSTART:20230819T130000Z
DTEND:20230819T170000Z
DCREATED:20230727T191557Z
UID:ATEvent-4bf29a1d45134ba084545fc44547f694
SEQUENCE:0
LAST-MODIFIED:20230727T191557Z
SUMMARY:TROT Training Session
DESCRIPTION:Volunteers are needed for our TROT program! Therapeutic Ri
 ding of Tryon (TROT) offers horsemanship skills to adults and children
  with physical\, cognitive\, development and emotional challenges in a
  safe\, friendly\, and supportive environment. Our fall program starts
  in September. We are looking for volunteers who can devote two hours\
 , once a week\, to supporting participants. Horse experience is not re
 quired as volunteers participate in a hands-on training session.
LOCATION:FENCE Center
PRIORITY:3
TRANSP:0
END:VEVENT
END:VCALENDAR
