BEGIN:VCALENDAR
PRODID:-//AT Content Types//AT Event//EN
VERSION:1.0
BEGIN:VEVENT
DTSTART:20210828T130000Z
DTEND:20210828T150000Z
DCREATED:20210629T155420Z
UID:ATEvent-8388b18ab93d41b89238789a117b7736
SEQUENCE:0
LAST-MODIFIED:20210629T155421Z
SUMMARY:TROT training
LOCATION:FENCE Center
PRIORITY:3
TRANSP:0
END:VEVENT
END:VCALENDAR
