BEGIN:VCALENDAR
PRODID:-//AT Content Types//AT Event//EN
VERSION:2.0
METHOD:PUBLISH
BEGIN:VEVENT
DTSTAMP:20260423T130828Z
CREATED:20210629T161021Z
UID:ATEvent-cc91b171ecaf49d9bd548d764c4650d6
LAST-MODIFIED:20210629T161021Z
SUMMARY:TROT Summer Session
DTSTART:20210802T130000Z
DTEND:20210802T160000Z
LOCATION:FENCE Equestrian Side
CATEGORIES:Family
CONTACT:Megan McGarrigle\, 828-859-9021\, therapeuticriding@fence.org
CLASS:PUBLIC
END:VEVENT
END:VCALENDAR
