BEGIN:VCALENDAR
PRODID:-//AT Content Types//AT Event//EN
VERSION:1.0
BEGIN:VEVENT
DTSTART:20130304T200000Z
DTEND:20130304T220000Z
DCREATED:20130108T152006Z
UID:ATEvent-c36bca34-09de-4a26-8759-3ad0369098d6
SEQUENCE:0
LAST-MODIFIED:20130108T154655Z
SUMMARY:TROT Spring Session Begins
LOCATION:Rosemary's Barn
PRIORITY:3
TRANSP:0
END:VEVENT
END:VCALENDAR
