BEGIN:VCALENDAR
PRODID:-//AT Content Types//AT Event//EN
VERSION:1.0
BEGIN:VEVENT
DTSTART:20120904T170000Z
DTEND:20120904T210000Z
DCREATED:20120723T184407Z
UID:ATEvent-6da0395f-94eb-489a-b4f8-6bc8a2880d75
SEQUENCE:0
LAST-MODIFIED:20120723T184408Z
SUMMARY:TROT lessons begin
LOCATION:Rosemary's Barn
PRIORITY:3
TRANSP:0
END:VEVENT
END:VCALENDAR
