BEGIN:VCALENDAR
PRODID:-//AT Content Types//AT Event//EN
VERSION:2.0
METHOD:PUBLISH
BEGIN:VEVENT
DTSTAMP:20260423T115245Z
CREATED:20190123T205015Z
UID:ATEvent-185fb382463544b487c911c85530da2b
LAST-MODIFIED:20190123T205015Z
SUMMARY:TROT Horse Shows
DTSTART:20191116T140000Z
DTEND:20191116T190000Z
LOCATION:FENCE Equestrian Side
CATEGORIES:Horse Show
CONTACT:Tracie Hanson\, 8288599021\, info@fence.org
CLASS:PUBLIC
END:VEVENT
END:VCALENDAR
