BEGIN:VCALENDAR
PRODID:-//AT Content Types//AT Event//EN
VERSION:1.0
BEGIN:VEVENT
DTSTART:20111203T140000Z
DTEND:20111203T180000Z
DCREATED:20111110T233801Z
UID:ATEvent-6c61bcf9-a974-477d-9b1c-b9139f67c17e
SEQUENCE:0
LAST-MODIFIED:20111111T165052Z
SUMMARY:Dec. 3: TROT Horse Show
DESCRIPTION:Watch our Therapeutic Riding of Tryon riders show their sk
 ills in this annual horse show organized by our riding program for spe
 cial needs children and adults.
LOCATION:Equestrian Center Ring C
PRIORITY:3
TRANSP:0
END:VEVENT
END:VCALENDAR
