BEGIN:VCALENDAR
PRODID:-//AT Content Types//AT Event//EN
VERSION:2.0
METHOD:PUBLISH
BEGIN:VEVENT
DTSTAMP:20260423T142314Z
CREATED:20230117T202533Z
UID:ATEvent-23ddae63b63047598cf4be1492f3c6af
LAST-MODIFIED:20230117T202533Z
SUMMARY:TROT Horse SHow
DTSTART:20231111T140000Z
DTEND:20231111T200000Z
LOCATION:FENCE Equestrian Side
CATEGORIES:Horse Show
CONTACT:Kathleen Watkins\, 828-859-9021\, therapeuticriding@fence.org
CLASS:PUBLIC
END:VEVENT
END:VCALENDAR
