BEGIN:VCALENDAR
PRODID:-//AT Content Types//AT Event//EN
VERSION:1.0
BEGIN:VEVENT
DTSTART:20221112T050000Z
DTEND:20221112T235500Z
DCREATED:20211213T173818Z
UID:ATEvent-051ddaeb040a4f4ca6efc2e0bf21e5d2
SEQUENCE:0
LAST-MODIFIED:20211213T173818Z
SUMMARY:TROT Horse Show
LOCATION:Equestrian side
PRIORITY:3
TRANSP:0
END:VEVENT
END:VCALENDAR
