BEGIN:VCALENDAR
PRODID:-//AT Content Types//AT Event//EN
VERSION:2.0
METHOD:PUBLISH
BEGIN:VEVENT
DTSTAMP:20260423T105600Z
CREATED:20180116T163755Z
UID:ATEvent-d5a3b4dac84f4c649868fc674595bf14
LAST-MODIFIED:20181031T174059Z
SUMMARY:TROT Horse Show
DTSTART:20181117T130000Z
DTEND:20181117T220000Z
DESCRIPTION:Therapeutic Riding of Tryon will host its Annual Student H
 orse Show.  The purpose of this horse show is to give all 25 students 
 the opportunity to showcase their skills and accomplishments –  and 
 to have fun doing it!\n\nBarbara DiPalma will judge this year’s comp
 etition and each student will participate in two classes\, equitation 
 and trail.  Ribbons will be awarded in each class.  Ring B at FENCE wi
 ll be the competition arena unless there is bad weather.  In case of r
 ain\, the competition will be moved to the covered arena.
LOCATION:FENCE Equestrian Side
CATEGORIES:Horse Show
CONTACT:Allison Rhyne\, 828-859-9021\, info@fence.org
CLASS:PUBLIC
END:VEVENT
END:VCALENDAR
