BEGIN:VCALENDAR
PRODID:-//AT Content Types//AT Event//EN
VERSION:1.0
BEGIN:VEVENT
DTSTART:20171118T140000Z
DTEND:20171118T190000Z
DCREATED:20170106T154259Z
UID:ATEvent-73a00165721449f0a63e38b81c0b581a
SEQUENCE:0
LAST-MODIFIED:20170106T154303Z
SUMMARY:TROT Horse Show
LOCATION:FENCE Equestrian Side
PRIORITY:3
TRANSP:0
END:VEVENT
END:VCALENDAR
