BEGIN:VCALENDAR
PRODID:-//AT Content Types//AT Event//EN
VERSION:2.0
METHOD:PUBLISH
BEGIN:VEVENT
DTSTAMP:20260423T154711Z
CREATED:20151112T154617Z
UID:ATEvent-ea09ef85-3a48-4360-9ce7-bbd93c8f5c29
LAST-MODIFIED:20151112T154617Z
SUMMARY:TROT Horse Show
DTSTART:20161112T140000Z
DTEND:20161112T200000Z
LOCATION:FENCE Equestrian Side
CATEGORIES:Horse Show
CONTACT:Tracie Hanson\, 828-859-9021\, info@fence.org
CLASS:PUBLIC
END:VEVENT
END:VCALENDAR
