BEGIN:VCALENDAR
PRODID:-//AT Content Types//AT Event//EN
VERSION:2.0
METHOD:PUBLISH
BEGIN:VEVENT
DTSTAMP:20260423T171035Z
CREATED:20241219T205734Z
UID:ATEvent-21adaed653394239b6e0cc73757c2270
LAST-MODIFIED:20241219T205734Z
SUMMARY:TROT Horse Show
DTSTART:20251108T130000Z
DTEND:20251108T220000Z
LOCATION:FENCE Equestrian
CATEGORIES:Horse Show
CONTACT:Summaiya\, therapeuticriding@fence.org
CLASS:PUBLIC
END:VEVENT
END:VCALENDAR
