BEGIN:VCALENDAR
PRODID:-//AT Content Types//AT Event//EN
VERSION:2.0
METHOD:PUBLISH
BEGIN:VEVENT
DTSTAMP:20260423T105600Z
CREATED:20231211T204036Z
UID:ATEvent-f1f214d913324d8c8887ce018f298c97
LAST-MODIFIED:20241031T122521Z
SUMMARY:TROT Horse Show
DTSTART:20241123T130000Z
DTEND:20241123T220000Z
LOCATION:FENCE Equestrian Side
CATEGORIES:Horse Show
CLASS:PUBLIC
END:VEVENT
END:VCALENDAR
