BEGIN:VCALENDAR
PRODID:-//AT Content Types//AT Event//EN
VERSION:2.0
METHOD:PUBLISH
BEGIN:VEVENT
DTSTAMP:20260423T131335Z
CREATED:20130108T155227Z
UID:ATEvent-48d85aa2-90a3-431e-9034-766cc7122549
LAST-MODIFIED:20131111T155404Z
SUMMARY:TROT Horse Show
DTSTART:20131123T153000Z
DTEND:20131123T170000Z
DESCRIPTION:Students’ abilities will be showcased when Therapeutic R
 iding of Tryon hosts its annual Student Horse Show. Nineteen students\
 , children and adults\, will compete in trail and equitation classes. 
 The horse show judge will be local equestrian KC Betzel of Landrum\, w
 ho competes in the horse discipline of eventing.
LOCATION:Fence EQ side
CATEGORIES:Horse Show
CONTACT:Robbie Hambright\, 828-859-9021\, therapeuticriding@fence.org
CLASS:PUBLIC
END:VEVENT
END:VCALENDAR
