BEGIN:VCALENDAR
PRODID:-//AT Content Types//AT Event//EN
VERSION:2.0
METHOD:PUBLISH
BEGIN:VEVENT
DTSTAMP:20260423T191051Z
CREATED:20130108T155015Z
UID:ATEvent-4c6a22d6-a8d2-43a4-bc64-af8276298359
LAST-MODIFIED:20130108T155015Z
SUMMARY:TROT Fall Session Begins
DTSTART:20130909T040000Z
DTEND:20130909T040000Z
CATEGORIES:Clinic
CONTACT:Robbie Hambright\, 828-859-9021\, therapeuticriding@fence.org
CLASS:PUBLIC
END:VEVENT
END:VCALENDAR
