BEGIN:VCALENDAR
PRODID:-//AT Content Types//AT Event//EN
VERSION:2.0
METHOD:PUBLISH
BEGIN:VEVENT
DTSTAMP:20260420T192720Z
CREATED:20170112T211401Z
UID:ATEvent-ae3e8a23b7464c7cba5891f25151f839
LAST-MODIFIED:20170112T211401Z
SUMMARY:TROT Barn Clean up Day
DTSTART:20170227T180000Z
DTEND:20170227T200000Z
LOCATION:FENCE/TROT Barn
CATEGORIES:TROT
CONTACT:Allison Rhyne\, 828-859-9021\, therapeuticriding@fence.org
CLASS:PUBLIC
END:VEVENT
END:VCALENDAR
