BEGIN:VCALENDAR
PRODID:-//AT Content Types//AT Event//EN
VERSION:2.0
METHOD:PUBLISH
BEGIN:VEVENT
DTSTAMP:20260423T140716Z
CREATED:20210122T201714Z
UID:ATEvent-80c8ff6e9aa24e35aef9fad58e1acca8
LAST-MODIFIED:20210122T201714Z
SUMMARY:TRHC Spring Fling
DTSTART:20210424T120000Z
DTEND:20210424T210000Z
LOCATION:FENCE Equestrian Side
CATEGORIES:Horse Show
URL:https://tryonridingandhuntclub.org/
CLASS:PUBLIC
END:VEVENT
END:VCALENDAR
