BEGIN:VCALENDAR
PRODID:-//AT Content Types//AT Event//EN
VERSION:2.0
METHOD:PUBLISH
BEGIN:VEVENT
DTSTAMP:20260423T142404Z
CREATED:20211213T173602Z
UID:ATEvent-aa808069889f433bb22a294b9d8f2683
LAST-MODIFIED:20220726T170058Z
SUMMARY:TRHC Horse Trials
DTSTART:20221022T120000Z
DTEND:20221023T220000Z
LOCATION:Equestrian side/Cross Country Course
CATEGORIES:Horse Show
CLASS:PUBLIC
END:VEVENT
END:VCALENDAR
