BEGIN:VCALENDAR
PRODID:-//AT Content Types//AT Event//EN
VERSION:2.0
METHOD:PUBLISH
BEGIN:VEVENT
DTSTAMP:20260423T105515Z
CREATED:20200110T213123Z
UID:ATEvent-a5e54266ce874f9382ede9b55b93d85b
LAST-MODIFIED:20200110T213123Z
SUMMARY:TRHC Horse Trials
DTSTART:20201017T120000Z
DTEND:20201018T210000Z
LOCATION:FENCE Equestrian Side
CATEGORIES:Horse Show
CLASS:PUBLIC
END:VEVENT
END:VCALENDAR
