BEGIN:VCALENDAR
PRODID:-//AT Content Types//AT Event//EN
VERSION:1.0
BEGIN:VEVENT
DTSTART:20191019T120000Z
DTEND:20191020T210000Z
DCREATED:20190123T144018Z
UID:ATEvent-56bc4eb6c0c147f48f99a696db036639
SEQUENCE:0
LAST-MODIFIED:20190221T153602Z
SUMMARY:TRHC Horse Trials
LOCATION:FENCE Equestrian Side
PRIORITY:3
TRANSP:0
END:VEVENT
END:VCALENDAR
