BEGIN:VCALENDAR
PRODID:-//AT Content Types//AT Event//EN
VERSION:2.0
METHOD:PUBLISH
BEGIN:VEVENT
DTSTAMP:20260423T170957Z
CREATED:20170105T194010Z
UID:ATEvent-b68d7363c2c94a5fbd721cd4fb85b082
LAST-MODIFIED:20170105T194011Z
SUMMARY:TRHC Horse Trials
DTSTART:20171021T120000Z
DTEND:20171022T210000Z
LOCATION:FENCE Equestrian Side
CATEGORIES:Horse Show
CLASS:PUBLIC
END:VEVENT
END:VCALENDAR
