BEGIN:VCALENDAR
PRODID:-//AT Content Types//AT Event//EN
VERSION:1.0
BEGIN:VEVENT
DTSTART:20160924T120000Z
DTEND:20160925T210000Z
DCREATED:20151110T210648Z
UID:ATEvent-a7158502-9827-4453-9510-3fccb7e3a2d0
SEQUENCE:0
LAST-MODIFIED:20151110T210648Z
SUMMARY:TRHC Horse Trials
LOCATION:FENCE Equestrian Side
PRIORITY:3
TRANSP:0
END:VEVENT
END:VCALENDAR
