BEGIN:VCALENDAR
PRODID:-//AT Content Types//AT Event//EN
VERSION:2.0
METHOD:PUBLISH
BEGIN:VEVENT
DTSTAMP:20260423T115207Z
CREATED:20230928T180604Z
UID:ATEvent-460d7e7b4c34400abf27a42239870870
LAST-MODIFIED:20230928T181105Z
SUMMARY:TRHC Horse & Hound
DTSTART:20240419T040000Z
DTEND:20240422T035500Z
LOCATION:FENCE Equestrian Side
CATEGORIES:Horse Show
CLASS:PUBLIC
END:VEVENT
END:VCALENDAR
