BEGIN:VCALENDAR
PRODID:-//AT Content Types//AT Event//EN
VERSION:2.0
METHOD:PUBLISH
BEGIN:VEVENT
DTSTAMP:20260423T171037Z
CREATED:20251217T163011Z
UID:ATEvent-52e1c0db0dca4a17a9968a39a5cd6ce3
LAST-MODIFIED:20251217T163011Z
SUMMARY:TRHC Horse & Hound
DTSTART:20260417T120000Z
DTEND:20260419T210000Z
CATEGORIES:Horse Show
CONTACT:Angie Millon\, angelamillon@icloud.com
CLASS:PUBLIC
END:VEVENT
END:VCALENDAR
