BEGIN:VCALENDAR
PRODID:-//AT Content Types//AT Event//EN
VERSION:1.0
BEGIN:VEVENT
DTSTART:20220423T120000Z
DTEND:20220424T200000Z
DCREATED:20220128T182146Z
UID:ATEvent-2f63520bef6041448845bd69936ba00a
SEQUENCE:0
LAST-MODIFIED:20220128T182206Z
SUMMARY:TRHC Horse and Hound Show
LOCATION:FENCE Equestrian side
PRIORITY:3
TRANSP:0
END:VEVENT
END:VCALENDAR
