BEGIN:VCALENDAR
PRODID:-//AT Content Types//AT Event//EN
VERSION:1.0
BEGIN:VEVENT
DTSTART:20230422T120000Z
DTEND:20230423T210000Z
DCREATED:20230117T195436Z
UID:ATEvent-bf72ec2a62ed43eb9637c1ec3dda159a
SEQUENCE:0
LAST-MODIFIED:20230117T195436Z
SUMMARY:TRHC Horse and Hound Show
LOCATION:FENCE Equestrian Side
PRIORITY:3
TRANSP:0
END:VEVENT
END:VCALENDAR
