BEGIN:VCALENDAR
PRODID:-//AT Content Types//AT Event//EN
VERSION:1.0
BEGIN:VEVENT
DTSTART:20220924T120000Z
DTEND:20220925T200000Z
DCREATED:20211213T173021Z
UID:ATEvent-6330517f4dd84b70bca0d60d18c8c2c3
SEQUENCE:0
LAST-MODIFIED:20220726T170139Z
SUMMARY:TRHC Cross Country Schooling
LOCATION:Equestrian side/Cross Country Course
PRIORITY:3
TRANSP:0
END:VEVENT
END:VCALENDAR
