BEGIN:VCALENDAR
PRODID:-//AT Content Types//AT Event//EN
VERSION:2.0
METHOD:PUBLISH
BEGIN:VEVENT
DTSTAMP:20260420T055831Z
CREATED:20210127T134431Z
UID:ATEvent-93559f9ff42d4e00966af2581d6e3841
LAST-MODIFIED:20210127T134431Z
SUMMARY:TRHC Cross Country Schooling
DTSTART:20210925T120000Z
DTEND:20210926T180000Z
LOCATION:FENCE Cross Country
CATEGORIES:Schooling
URL:https://tryonridingandhuntclub.org/
CLASS:PUBLIC
END:VEVENT
END:VCALENDAR
