BEGIN:VCALENDAR
PRODID:-//AT Content Types//AT Event//EN
VERSION:1.0
BEGIN:VEVENT
DTSTART:20170215T150000Z
DTEND:20170215T170000Z
DCREATED:20170117T161256Z
UID:ATEvent-e95b6653e1454a9f8d7f71cb9d5c7b3d
SEQUENCE:0
LAST-MODIFIED:20170131T135923Z
SUMMARY:Trail Workday
DESCRIPTION:The FENCE Trail Crew will have a trails work session. Loca
 l hikers as well as any Palmetto Trails enthusiasts are encouraged to 
 attend.  Bring your favorite cutters and wear appropriate clothing.
LOCATION:FENCE Center
PRIORITY:3
TRANSP:0
END:VEVENT
END:VCALENDAR
