BEGIN:VCALENDAR
PRODID:-//AT Content Types//AT Event//EN
VERSION:1.0
BEGIN:VEVENT
DTSTART:20171018T140000Z
DTEND:20171018T160000Z
DCREATED:20170117T161641Z
UID:ATEvent-0b857f3352344d1aa75cdd430199c9ee
SEQUENCE:0
LAST-MODIFIED:20170117T161641Z
SUMMARY:Trail Workday
LOCATION:FENCE Center
PRIORITY:3
TRANSP:0
END:VEVENT
END:VCALENDAR
