BEGIN:VCALENDAR
PRODID:-//AT Content Types//AT Event//EN
VERSION:2.0
METHOD:PUBLISH
BEGIN:VEVENT
DTSTAMP:20260423T130921Z
CREATED:20200210T183909Z
UID:ATEvent-ef5075298d214b0ba41ad83340a4f86b
LAST-MODIFIED:20200330T132205Z
SUMMARY:Cancelled: Trail Systems Seminar
DTSTART:20200415T230000Z
DTEND:20200416T000000Z
DESCRIPTION:Come and hear experienced riders share information about o
 ur many local equestrian trail systems. Learn about the trails of the 
 Foothills Equestrian Trails Association (FETA)\, the Collinsville Eque
 strian Trail Association (CETA)\, DuPont State Forest\, Tsali Recreati
 on Area\, the Biltmore Estate\, Moses H. Cone Memorial Park\, Catalooc
 hee Horse Camp\, and Pisgah National Forest. Foothills Riding Club edu
 cational seminars take place from 7-8 PM in the FENCE great room. Semi
 nars are free to all but a $5 suggested donation is encouraged of non-
 members.  Evening donations will benefit Foothills Equestrian Nature C
 enter (FENCE).
LOCATION:FENCE Center
CATEGORIES:Family
URL:http://foothillsridingclub.org
CLASS:PUBLIC
END:VEVENT
END:VCALENDAR
