BEGIN:VCALENDAR
PRODID:-//AT Content Types//AT Event//EN
VERSION:1.0
BEGIN:VEVENT
DTSTART:20170408T130000Z
DTEND:20170408T200000Z
DCREATED:20170220T152707Z
UID:ATEvent-e1b45a6eb0144632a1aab94f8729d56e
SEQUENCE:0
LAST-MODIFIED:20170328T152246Z
SUMMARY:Trail Class Clinic
LOCATION:FENCE Equestrian Side
PRIORITY:3
TRANSP:0
END:VEVENT
END:VCALENDAR
