BEGIN:VCALENDAR
PRODID:-//AT Content Types//AT Event//EN
VERSION:2.0
METHOD:PUBLISH
BEGIN:VEVENT
DTSTAMP:20260423T141908Z
CREATED:20180116T161936Z
UID:ATEvent-ec3f8e365c264d1c9391196376349f86
LAST-MODIFIED:20180116T161956Z
SUMMARY:TR&HC XC Schooling
DTSTART:20180929T120000Z
DTEND:20180929T215500Z
DESCRIPTION:TR&HC Annual X-Country Schooling Day
CATEGORIES:Schooling
CONTACT:info@fence.org
URL:http://www.tryonridingandhuntclub.org/
CLASS:PUBLIC
END:VEVENT
END:VCALENDAR
