BEGIN:VCALENDAR
PRODID:-//AT Content Types//AT Event//EN
VERSION:1.0
BEGIN:VEVENT
DTSTART:20181020T120000Z
DTEND:20181021T215500Z
DCREATED:20180116T162529Z
UID:ATEvent-7ee0736f34224bcdb86c266bf170dab1
SEQUENCE:0
LAST-MODIFIED:20180116T162529Z
SUMMARY:TR&HC Horse Trials
PRIORITY:3
TRANSP:0
END:VEVENT
END:VCALENDAR
