BEGIN:VCALENDAR
PRODID:-//AT Content Types//AT Event//EN
VERSION:1.0
BEGIN:VEVENT
DTSTART:20150815T120000Z
DTEND:20150815T200000Z
DCREATED:20150113T213524Z
UID:ATEvent-6d638fc5-b72a-4c3f-8eeb-413676157076
SEQUENCE:0
LAST-MODIFIED:20150714T174433Z
SUMMARY:TR&HC Cross Country Schooling
DESCRIPTION:The TR&HC Cross Country Schooling is a great opportunity t
 o practice for the TR&HC Horse Trials\, held in September\, without th
 e pressure of points or standings
LOCATION:FENCE
PRIORITY:3
TRANSP:0
END:VEVENT
END:VCALENDAR
