BEGIN:VCALENDAR
PRODID:-//AT Content Types//AT Event//EN
VERSION:1.0
BEGIN:VEVENT
DTSTART:20150919T040000Z
DTEND:20150920T160000Z
DCREATED:20150113T213725Z
UID:ATEvent-4c02abd2-6211-4e7c-a10b-2a53a857cfe9
SEQUENCE:0
LAST-MODIFIED:20150113T213758Z
SUMMARY:TR&HC Annual Horse Trials
DESCRIPTION:Beginning in 1976\, the TR&HC Annual Horse Trials have bee
 n a USEA recognized event. This competition features the disciplines o
 f dressage\, cross-country\, and show jumping ranging from starter to 
 preliminary divisions and runs as a two-day event (TDE).
PRIORITY:3
TRANSP:0
END:VEVENT
END:VCALENDAR
