BEGIN:VCALENDAR
PRODID:-//AT Content Types//AT Event//EN
VERSION:1.0
BEGIN:VEVENT
DTSTART:20150502T140000Z
DTEND:20150502T200000Z
DCREATED:20150113T213136Z
UID:ATEvent-a405d418-d5f1-47ce-8b89-001227120a31
SEQUENCE:0
LAST-MODIFIED:20150113T213137Z
SUMMARY:TR&HC Annual Block House Steeplechase Races
DESCRIPTION:Since 1947\, the TR&HC Block House Steeplechase Races have
  ushered in spring with elegant hats\, tailgating\, family reunions\, 
 and the sound & sight of thoroughbreds thundering past for a win. The 
 Block House is the longest running steeplechase in the state of North 
 Carolina and crowds of 18,000 to 20,000 annually attend the races.
LOCATION:FENCE Equestrian Side
PRIORITY:3
TRANSP:0
END:VEVENT
END:VCALENDAR
