BEGIN:VCALENDAR
PRODID:-//AT Content Types//AT Event//EN
VERSION:1.0
BEGIN:VEVENT
DTSTART:20130921T110000Z
DTEND:20130922T210000Z
DCREATED:20120813T135651Z
UID:ATEvent-d775cd66-0d12-4ce4-8e85-859c599b0c3c
SEQUENCE:0
LAST-MODIFIED:20130315T210311Z
SUMMARY:TR&HC 38th Annual Horse Trials
DESCRIPTION:The 38th running of the TR&HC recognized horse trails sanc
 tioned by USEF & USEA for end of year awards and points.
LOCATION:EQ Side FENCE/FENCE X
PRIORITY:3
TRANSP:0
END:VEVENT
END:VCALENDAR
