BEGIN:VCALENDAR
PRODID:-//AT Content Types//AT Event//EN
VERSION:2.0
METHOD:PUBLISH
BEGIN:VEVENT
DTSTAMP:20260424T045654Z
CREATED:20180522T142728Z
UID:ATEvent-e4c542337ba24be0bbe5cadad1afdd72
LAST-MODIFIED:20180522T142728Z
SUMMARY:Tina and Her Pony- Free Family Concert
DTSTART:20180624T200000Z
DTEND:20180624T210000Z
DESCRIPTION:Tina and Her Pony\, local Indie Appalachian Folk Duo\, wil
 l perform in the great room at FENCE for a Free\, family concert. Refr
 eshment will be served following the performance. \n\nThis event is ma
 de possible by the Kirby Endowment at the Polk County Community Founda
 tion.
LOCATION:FENCE Center
CATEGORIES:Family
CONTACT:Tracie Hanson\, 8288599021\, info@fence.org
CLASS:PUBLIC
END:VEVENT
END:VCALENDAR
