BEGIN:VCALENDAR
PRODID:-//AT Content Types//AT Event//EN
VERSION:1.0
BEGIN:VEVENT
DTSTART:20140928T000000Z
DTEND:20140928T020000Z
DCREATED:20140828T183814Z
UID:ATEvent-1f3c41e1-c6ed-4f45-8098-20b2a4dd1fad
SEQUENCE:0
LAST-MODIFIED:20140828T183815Z
SUMMARY:The Foothills Astronomical Society
DESCRIPTION:The Foothills Astronomical Society and FENCE invite you to
  star gaze\, and learn about astronomy. These programs are set to begi
 n at sunset. You are encouraged to stay as long as youâ€™d like! Donâ€
 ™t have much knowledge about astronomy? No problem\, we have astronome
 rs that are very informative and eager to help you learn more about sp
 ace!! Libra the Scales & M104 the sombreo galaxy will be featured!
LOCATION:FENCE Center on Hawk's Ridge
PRIORITY:3
TRANSP:0
END:VEVENT
END:VCALENDAR
