BEGIN:VCALENDAR
PRODID:-//AT Content Types//AT Event//EN
VERSION:1.0
BEGIN:VEVENT
DTSTART:20140831T000000Z
DTEND:20140831T020000Z
DCREATED:20140710T181716Z
UID:ATEvent-3c4b8fa5-9b77-4360-82a3-1e318e1ad7c9
SEQUENCE:0
LAST-MODIFIED:20140710T181716Z
SUMMARY:The Foothills Astronomical Society
DESCRIPTION:The Foothills Astronomical Society and FENCE invite you to
  star gaze\, and learn about astronomy.  These programs are set to beg
 in at sunset. You are encouraged to stay as long as you’d like!  Don
 ’t have much knowledge about astronomy? No problem\, we have astrono
 mers that are very informative and eager to help you learn more about 
 space!!
LOCATION:FENCE Center on Hawk's Ridge
PRIORITY:3
TRANSP:0
END:VEVENT
END:VCALENDAR
