BEGIN:VCALENDAR
PRODID:-//AT Content Types//AT Event//EN
VERSION:2.0
METHOD:PUBLISH
BEGIN:VEVENT
DTSTAMP:20260423T120819Z
CREATED:20120723T144629Z
UID:ATEvent-146d5b6e-0fda-43b2-8ad8-5e5b6df785df
LAST-MODIFIED:20120723T144629Z
SUMMARY:The 1st Annual Horse Show to Benefit Polk Co Sheriff's Benevolent Fund
DTSTART:20120922T110000Z
DTEND:20120922T210000Z
DESCRIPTION:This show is open to youth and adult participants and the 
 various classes include Halter\, Showmanship\, English\, Hunter over F
 ences\, Western\, Gaited\, Trail\, and Sport Classes. It will be a fun
  family oriented event for English and Western riders of all abilities
 .
LOCATION:Equestrian Side of FENCE
CONTACT:Sue Truitt\, 864-457-2718
CLASS:PUBLIC
END:VEVENT
END:VCALENDAR
