BEGIN:VCALENDAR
PRODID:-//AT Content Types//AT Event//EN
VERSION:1.0
BEGIN:VEVENT
DTSTART:20160918T170000Z
DTEND:20160918T210000Z
DCREATED:20160915T154819Z
UID:ATEvent-6e565600bf6e4ae6a602a208bd56608e
SEQUENCE:0
LAST-MODIFIED:20160915T154820Z
SUMMARY:Taste - A Food & Wine Event
DESCRIPTION:Presented by: Our Carolina Foothills
LOCATION:FENCE Center
PRIORITY:3
TRANSP:0
END:VEVENT
END:VCALENDAR
