BEGIN:VCALENDAR
PRODID:-//AT Content Types//AT Event//EN
VERSION:2.0
METHOD:PUBLISH
BEGIN:VEVENT
DTSTAMP:20260423T191335Z
CREATED:20190320T164218Z
UID:ATEvent-b1c136c3189e4b8daa40adae4b01b3fc
LAST-MODIFIED:20190320T164401Z
SUMMARY:Talk on Equine Assisted Psychotherapy
DTSTART:20190326T220000Z
DTEND:20190326T233000Z
LOCATION:FENCE Center
CATEGORIES:Family
CONTACT:Shannon Knapp\, admin@heartofhorsesense.org
URL:http://heartofhorsesense.org
CLASS:PUBLIC
END:VEVENT
END:VCALENDAR
