BEGIN:VCALENDAR
PRODID:-//AT Content Types//AT Event//EN
VERSION:1.0
BEGIN:VEVENT
DTSTART:20140626T120000Z
DTEND:20140626T140000Z
DCREATED:20140120T211458Z
UID:ATEvent-6cb7cb52-a442-4a95-a155-dd21d53ec67c
SEQUENCE:0
LAST-MODIFIED:20140819T164952Z
SUMMARY:Summer Hike with Aaron Steed
DESCRIPTION:"Summer is a wonderful time of the year with birds fledgin
 g through the warmer months. With an abundance of food and cover\, man
 y young birds are around. Tree Swallows and Eastern Bluebirds use the 
 bird houses and Carlina Wren chicks scurry around the FENCE buildings 
 looking for food.
LOCATION:Fence Center
PRIORITY:3
TRANSP:0
END:VEVENT
END:VCALENDAR
