BEGIN:VCALENDAR
PRODID:-//AT Content Types//AT Event//EN
VERSION:2.0
METHOD:PUBLISH
BEGIN:VEVENT
DTSTAMP:20260423T114727Z
CREATED:20130228T150240Z
UID:ATEvent-42945af4-9d22-44ec-9360-3d67112873b3
LAST-MODIFIED:20130228T150240Z
SUMMARY:Summer Classic
DTSTART:20130530T120000Z
DTEND:20130602T210000Z
LOCATION:FENCE EQ Side
CATEGORIES:Horse Show
CONTACT:JP Goddard\, 803-643-5698
CLASS:PUBLIC
END:VEVENT
END:VCALENDAR
