BEGIN:VCALENDAR
PRODID:-//AT Content Types//AT Event//EN
VERSION:2.0
METHOD:PUBLISH
BEGIN:VEVENT
DTSTAMP:20260423T154505Z
CREATED:20190624T184116Z
UID:ATEvent-bbb7494a4caa4907846f70709105fbff
LAST-MODIFIED:20190624T184116Z
SUMMARY:Summer Bird Walk
DTSTART:20190808T120000Z
DTEND:20190808T140000Z
DESCRIPTION:Birders of all levels are welcome on this free guided bird
  walk at FENCE. Meet at the FENCE center for this wonderful nature pro
 gram.
LOCATION:FENCE Center
CATEGORIES:Nature Program
CONTACT:828-859-9021\, info@fence.org
CLASS:PUBLIC
END:VEVENT
END:VCALENDAR
