BEGIN:VCALENDAR
PRODID:-//AT Content Types//AT Event//EN
VERSION:1.0
BEGIN:VEVENT
DTSTART:20210701T120000Z
DTEND:20210701T140000Z
DCREATED:20210624T172448Z
UID:ATEvent-8e48e0c6c37f433eaee1d7325fbd4c41
SEQUENCE:0
LAST-MODIFIED:20210624T172448Z
SUMMARY:Summer bird walk
DESCRIPTION:Join us at FENCE on Thursday\, July 1st at 8am for a guide
 d bird walk around the FENCE property. This event is free and open to 
 the public.
LOCATION:FENCE Center
PRIORITY:3
TRANSP:0
END:VEVENT
END:VCALENDAR
