BEGIN:VCALENDAR
PRODID:-//AT Content Types//AT Event//EN
VERSION:2.0
METHOD:PUBLISH
BEGIN:VEVENT
DTSTAMP:20260423T140548Z
CREATED:20210607T200124Z
UID:ATEvent-cf741774390f4f03b81368e72cdec1f0
LAST-MODIFIED:20210720T190002Z
SUMMARY:Summer bird walk
DTSTART:20210722T120000Z
DTEND:20210722T140000Z
DESCRIPTION:Join us at FENCE for a guided bird walk around the propert
 y. This event is free and open to the public. Michael Plauche\, of Ven
 tures Birding\, will be the guide for this informative walk around FEN
 CE.
LOCATION:FENCE Center
CATEGORIES:Nature Program
CONTACT:828-859-9021\, info@fence.org
CLASS:PUBLIC
END:VEVENT
END:VCALENDAR
